BEGIN:VCALENDAR
VERSION:2.0
PRODID:-//Squarespace Inc/Squarespace 6//v6//EN
BEGIN:VEVENT
UID:602c9a507aa5f126773ec0a2@squarespace.com
DTSTAMP:20210217T042604Z
DTSTART:20210331T063000Z
DTEND:20210331T083000Z
SUMMARY:KLAC Presentation Evening
END:VEVENT
END:VCALENDAR
