BEGIN:VCALENDAR
VERSION:2.0
PRODID:-//Squarespace Inc/Squarespace 6//v6//EN
BEGIN:VEVENT
UID:5fa8673a6e5c7b08c1a58a38@squarespace.com
DTSTAMP:20210217T042132Z
DTSTART:20210327T210000Z
DTEND:20210328T060000Z
SUMMARY:LAVic State Relays Championships: U19-U16 only -  Casey Fields. Day 2
END:VEVENT
END:VCALENDAR
