BEGIN:VCALENDAR
VERSION:2.0
PRODID:-//Squarespace Inc/Squarespace 6//v6//EN
BEGIN:VEVENT
UID:5fa86707b47b7035e122bd14@squarespace.com
DTSTAMP:20210217T042031Z
DTSTART:20210326T210000Z
DTEND:20210327T060000Z
SUMMARY:LAVic State Relays Championships: U9-U16 only Casey Fields: Day 1
END:VEVENT
END:VCALENDAR
