BEGIN:VCALENDAR
VERSION:2.0
PRODID:-//Squarespace Inc/Squarespace 6//v6//EN
BEGIN:VEVENT
UID:5fa866820feb651389558619@squarespace.com
DTSTAMP:20201108T214346Z
DTSTART:20210301T220000Z
DTEND:20210301T230000Z
SUMMARY:Entries Close for State Relays Championships: U13-U16 only -Direct 
 Entry
END:VEVENT
END:VCALENDAR
