BEGIN:VCALENDAR
VERSION:2.0
PRODID:-//Squarespace Inc/Squarespace 6//v6//EN
BEGIN:VEVENT
UID:5fa866a06e5c7b08c1a56e70@squarespace.com
DTSTAMP:20201108T214452Z
DTSTART:20210312T210000Z
DTEND:20210313T060000Z
SUMMARY:LAVic State Track &amp\; Field Championships: U9-U16 Day 1 -   Case
 y Fields
END:VEVENT
END:VCALENDAR
