BEGIN:VCALENDAR
VERSION:2.0
PRODID:-//Squarespace Inc/Squarespace 6//v6//EN
BEGIN:VEVENT
UID:5fa866d94f8f02449ad23643@squarespace.com
DTSTAMP:20201108T214517Z
DTSTART:20210313T210000Z
DTEND:20210314T060000Z
SUMMARY:LAVic State Track &amp\; Field Championships: U9-U16 Day 2 -   Case
 y Fields
END:VEVENT
END:VCALENDAR
