BEGIN:VCALENDAR
VERSION:2.0
PRODID:-//Squarespace Inc/Squarespace 6//v6//EN
BEGIN:VEVENT
UID:5fa865ebf6d399118864e3ad@squarespace.com
DTSTAMP:20201108T214120Z
DTSTART:20210203T220000Z
DTEND:20210203T230000Z
SUMMARY:Entries Open for State Relays Championships: U13-U16 only -Direct E
 ntry
END:VEVENT
END:VCALENDAR
