BEGIN:VCALENDAR
VERSION:2.0
PRODID:-//Squarespace Inc/Squarespace 6//v6//EN
BEGIN:VEVENT
UID:5fa8660c099a931d36f6552b@squarespace.com
DTSTAMP:20210217T041710Z
DTSTART:20210226T210000Z
DTEND:20210227T060000Z
SUMMARY:LAVic Region Track &amp\; Field Carnivals: U9-U16 - Day 1
END:VEVENT
END:VCALENDAR
