BEGIN:VCALENDAR
VERSION:2.0
PRODID:-//Squarespace Inc/Squarespace 6//v6//EN
BEGIN:VEVENT
UID:5fa8663944651c5602f152d4@squarespace.com
DTSTAMP:20210217T041652Z
DTSTART:20210227T210000Z
DTEND:20210228T060000Z
SUMMARY:LAVic Region Track &amp\; Field Carnivals: U9-U16 - Day 2
END:VEVENT
END:VCALENDAR
