BEGIN:VCALENDAR
VERSION:2.0
PRODID:-//Squarespace Inc/Squarespace 6//v6//EN
BEGIN:VEVENT
UID:6004c047dea472688fbac0c7@squarespace.com
DTSTAMP:20210117T225854Z
DTSTART:20210119T070000Z
DTEND:20210119T080000Z
SUMMARY:KLAC Centre Training
END:VEVENT
END:VCALENDAR
