BEGIN:VCALENDAR
VERSION:2.0
PRODID:-//Squarespace Inc/Squarespace 6//v6//EN
BEGIN:VEVENT
UID:5fa865638657be665e07c83e@squarespace.com
DTSTAMP:20201108T214018Z
DTSTART:20210112T125900Z
DTEND:20210112T135900Z
SUMMARY:Entries Close for State Combined Events Championships: U9-U16
END:VEVENT
END:VCALENDAR
