BEGIN:VCALENDAR
VERSION:2.0
PRODID:-//Squarespace Inc/Squarespace 6//v6//EN
BEGIN:VEVENT
UID:5d343738de51ea0001d99443@squarespace.com
DTSTAMP:20190721T095951Z
DTSTART:20200207T080000Z
DTEND:20200207T120000Z
SUMMARY:KLAC 50th Anniversary Dinner
GEO:-37.69583;144.768255
LOCATION:Taylor's Lake Reception Centre
END:VEVENT
END:VCALENDAR
