BEGIN:VCALENDAR
VERSION:2.0
PRODID:-//Squarespace Inc/Squarespace 6//v6//EN
BEGIN:VEVENT
UID:5fa79f3a44651c5602dce61d@squarespace.com
DTSTAMP:20201108T214819Z
DTSTART:20210129T210000Z
DTEND:20210130T060000Z
SUMMARY:LAVic State Combined Events Championships: U9-U16 - Day 1 - Lakesid
 e stadium
END:VEVENT
END:VCALENDAR
