BEGIN:VCALENDAR
VERSION:2.0
PRODID:-//Squarespace Inc/Squarespace 6//v6//EN
BEGIN:VEVENT
UID:5fa867ee8a3e5f407484d7a3@squarespace.com
DTSTAMP:20201108T215001Z
DTSTART:20210130T210000Z
DTEND:20210131T060000Z
SUMMARY:LAVic State Combined Events Championships: U9-U16 - Day 2 - Lakesid
 e stadium
END:VEVENT
END:VCALENDAR
