BEGIN:VCALENDAR
VERSION:2.0
PRODID:-//Squarespace Inc/Squarespace 6//v6//EN
BEGIN:VEVENT
UID:5fa86549d40a8a1cf773a7d7@squarespace.com
DTSTAMP:20201108T213837Z
DTSTART:20201130T220000Z
DTEND:20201130T230000Z
SUMMARY:Entries Open for Region Relays Carnivals: U9-U12 only
END:VEVENT
END:VCALENDAR
