BEGIN:VCALENDAR
VERSION:2.0
PRODID:-//Squarespace Inc/Squarespace 6//v6//EN
BEGIN:VEVENT
UID:5fa8652e0feb651389555cdb@squarespace.com
DTSTAMP:20201108T213804Z
DTSTART:20201126T220000Z
DTEND:20201126T230000Z
SUMMARY:Entries Open for Region Track &amp\; Field Carnivals: U9-U16
END:VEVENT
END:VCALENDAR
