BEGIN:VCALENDAR
VERSION:2.0
PRODID:-//Squarespace Inc/Squarespace 6//v6//EN
BEGIN:VEVENT
UID:5fa864f14e5ce030c7b5d54d@squarespace.com
DTSTAMP:20201108T213737Z
DTSTART:20201122T220000Z
DTEND:20201122T230000Z
SUMMARY:Entries Open for State Combined Events Championships: U9-U16
END:VEVENT
END:VCALENDAR
