BEGIN:VCALENDAR
VERSION:2.0
PRODID:-//Squarespace Inc/Squarespace 6//v6//EN
BEGIN:VEVENT
UID:5fa8699257ab6273a4a9f6dd@squarespace.com
DTSTAMP:20201108T215650Z
DTSTART:20201124T070000Z
DTEND:20201124T080000Z
SUMMARY:KLAC Centre Training
END:VEVENT
END:VCALENDAR
