BEGIN:VCALENDAR
VERSION:2.0
PRODID:-//Squarespace Inc/Squarespace 6//v6//EN
BEGIN:VEVENT
UID:5fa869a6b874e907d3e56a07@squarespace.com
DTSTAMP:20201108T215717Z
DTSTART:20201201T070000Z
DTEND:20201201T080000Z
SUMMARY:KLAC Centre Training
END:VEVENT
END:VCALENDAR
