BEGIN:VCALENDAR
VERSION:2.0
PRODID:-//Squarespace Inc/Squarespace 6//v6//EN
BEGIN:VEVENT
UID:5fa869c3ef83d42c47c9ced7@squarespace.com
DTSTAMP:20201108T215740Z
DTSTART:20201208T070000Z
DTEND:20201208T080000Z
SUMMARY:KLAC Centre Training
END:VEVENT
END:VCALENDAR
