BEGIN:VCALENDAR
VERSION:2.0
PRODID:-//Squarespace Inc/Squarespace 6//v6//EN
BEGIN:VEVENT
UID:5fa869d83c84443d2d547dc8@squarespace.com
DTSTAMP:20201108T215803Z
DTSTART:20201215T070000Z
DTEND:20201215T080000Z
SUMMARY:KLAC Centre Training
END:VEVENT
END:VCALENDAR
