BEGIN:VCALENDAR
VERSION:2.0
PRODID:-//Squarespace Inc/Squarespace 6//v6//EN
BEGIN:VEVENT
UID:5fa86e380814705318188797@squarespace.com
DTSTAMP:20201108T221658Z
DTSTART:20210202T070000Z
DTEND:20210202T080000Z
SUMMARY:KLAC Centre Training
END:VEVENT
END:VCALENDAR
