BEGIN:VCALENDAR
VERSION:2.0
PRODID:-//Squarespace Inc/Squarespace 6//v6//EN
BEGIN:VEVENT
UID:5fa86e6392c73f0939d9003b@squarespace.com
DTSTAMP:20201108T221722Z
DTSTART:20210209T070000Z
DTEND:20210209T080000Z
SUMMARY:KLAC Centre Training
END:VEVENT
END:VCALENDAR
