BEGIN:VCALENDAR
VERSION:2.0
PRODID:-//Squarespace Inc/Squarespace 6//v6//EN
BEGIN:VEVENT
UID:5fa86e7857ab6273a4aa9fb5@squarespace.com
DTSTAMP:20201108T221741Z
DTSTART:20210216T070000Z
DTEND:20210216T080000Z
SUMMARY:KLAC Centre Training
END:VEVENT
END:VCALENDAR
