BEGIN:VCALENDAR
VERSION:2.0
PRODID:-//Squarespace Inc/Squarespace 6//v6//EN
BEGIN:VEVENT
UID:5fa86e8c34227d39e10d1ec5@squarespace.com
DTSTAMP:20201108T221802Z
DTSTART:20210223T070000Z
DTEND:20210223T080000Z
SUMMARY:KLAC Centre Training
END:VEVENT
END:VCALENDAR
