BEGIN:VCALENDAR
VERSION:2.0
PRODID:-//Squarespace Inc/Squarespace 6//v6//EN
BEGIN:VEVENT
UID:5fa86ea0ea796d34de163434@squarespace.com
DTSTAMP:20201108T221824Z
DTSTART:20210302T070000Z
DTEND:20210302T080000Z
SUMMARY:KLAC Centre Training
END:VEVENT
END:VCALENDAR
