BEGIN:VCALENDAR
VERSION:2.0
PRODID:-//Squarespace Inc/Squarespace 6//v6//EN
BEGIN:VEVENT
UID:5fa86eb6b47b7035e123e1be@squarespace.com
DTSTAMP:20201108T221843Z
DTSTART:20210309T070000Z
DTEND:20210309T080000Z
SUMMARY:KLAC Centre Training
END:VEVENT
END:VCALENDAR
