BEGIN:VCALENDAR
VERSION:2.0
PRODID:-//Squarespace Inc/Squarespace 6//v6//EN
BEGIN:VEVENT
UID:5fa86ec7b75bcf39d67ad029@squarespace.com
DTSTAMP:20201108T221902Z
DTSTART:20210316T070000Z
DTEND:20210316T080000Z
SUMMARY:KLAC Centre Training
END:VEVENT
END:VCALENDAR
