BEGIN:VCALENDAR
VERSION:2.0
PRODID:-//Squarespace Inc/Squarespace 6//v6//EN
BEGIN:VEVENT
UID:5fa79cf52057b138b44c0e1b@squarespace.com
DTSTAMP:20201108T072425Z
DTSTART:20201113T220000Z
DTEND:20201114T010000Z
SUMMARY:Week 1 - Keilor Little Athletics
END:VEVENT
END:VCALENDAR
