BEGIN:VCALENDAR
VERSION:2.0
PRODID:-//Squarespace Inc/Squarespace 6//v6//EN
BEGIN:VEVENT
UID:5fa79d37066f8a0264840829@squarespace.com
DTSTAMP:20201108T072457Z
DTSTART:20201120T220000Z
DTEND:20201121T010000Z
SUMMARY:Week 2 - Keilor Little Athletics
END:VEVENT
END:VCALENDAR
