BEGIN:VCALENDAR
VERSION:2.0
PRODID:-//Squarespace Inc/Squarespace 6//v6//EN
BEGIN:VEVENT
UID:5fa79d4def83d42c47b4eab5@squarespace.com
DTSTAMP:20201108T072519Z
DTSTART:20201127T220000Z
DTEND:20201128T010000Z
SUMMARY:Week 3 - Keilor Little Athletics 
END:VEVENT
END:VCALENDAR
