BEGIN:VCALENDAR
VERSION:2.0
PRODID:-//Squarespace Inc/Squarespace 6//v6//EN
BEGIN:VEVENT
UID:5fa79d6557ab6273a495355f@squarespace.com
DTSTAMP:20201108T072546Z
DTSTART:20201204T220000Z
DTEND:20201205T010000Z
SUMMARY:Week 4 - Keilor Little Athletics 
END:VEVENT
END:VCALENDAR
