BEGIN:VCALENDAR
VERSION:2.0
PRODID:-//Squarespace Inc/Squarespace 6//v6//EN
BEGIN:VEVENT
UID:5fa79d7db47b7035e10e011b@squarespace.com
DTSTAMP:20201108T072620Z
DTSTART:20201211T220000Z
DTEND:20201212T010000Z
SUMMARY:Week 5 - Keilor Little Athletics
END:VEVENT
END:VCALENDAR
