BEGIN:VCALENDAR
VERSION:2.0
PRODID:-//Squarespace Inc/Squarespace 6//v6//EN
BEGIN:VEVENT
UID:5fa79da0116faf366ccacc09@squarespace.com
DTSTAMP:20201108T072642Z
DTSTART:20201218T220000Z
DTEND:20201219T010000Z
SUMMARY:Week 6 - Keilor Little Athletics
END:VEVENT
END:VCALENDAR
