BEGIN:VCALENDAR
VERSION:2.0
PRODID:-//Squarespace Inc/Squarespace 6//v6//EN
BEGIN:VEVENT
UID:5fa79dbef6d39911885080b6@squarespace.com
DTSTAMP:20201108T072712Z
DTSTART:20210122T220000Z
DTEND:20210123T010000Z
SUMMARY:Week 7 - Keilor Little Athletics
END:VEVENT
END:VCALENDAR
