BEGIN:VCALENDAR
VERSION:2.0
PRODID:-//Squarespace Inc/Squarespace 6//v6//EN
BEGIN:VEVENT
UID:5fa79dd6099a931d36e1c483@squarespace.com
DTSTAMP:20201108T072736Z
DTSTART:20210129T220000Z
DTEND:20210130T010000Z
SUMMARY:Week 8 - Keilor Little Athletics 
END:VEVENT
END:VCALENDAR
