BEGIN:VCALENDAR
VERSION:2.0
PRODID:-//Squarespace Inc/Squarespace 6//v6//EN
BEGIN:VEVENT
UID:5fa79df8fa0fbb2386023b63@squarespace.com
DTSTAMP:20210204T112159Z
DTSTART:20210205T220000Z
DTEND:20210206T010000Z
SUMMARY:Week 9 - Keilor Little Athletics &amp\; Relayathon
END:VEVENT
END:VCALENDAR
