BEGIN:VCALENDAR
VERSION:2.0
PRODID:-//Squarespace Inc/Squarespace 6//v6//EN
BEGIN:VEVENT
UID:5fa79e12066f8a0264840ebd@squarespace.com
DTSTAMP:20210204T112258Z
DTSTART:20210219T213000Z
DTEND:20210220T003000Z
SUMMARY:Week 10 - Keilor Little Athletics &amp\; Keilor Relay Challenge
END:VEVENT
END:VCALENDAR
