BEGIN:VCALENDAR
VERSION:2.0
PRODID:-//Squarespace Inc/Squarespace 6//v6//EN
BEGIN:VEVENT
UID:5fa79e56d9418b491299bb53@squarespace.com
DTSTAMP:20210217T042735Z
DTSTART:20210305T220000Z
DTEND:20210306T010000Z
SUMMARY:Week 12 - Keilor Little Athletics. Heats  and Finals of Tim Golder 
 100m Handicap. Warren Hosking 800m Handicap 
END:VEVENT
END:VCALENDAR
