BEGIN:VCALENDAR
VERSION:2.0
PRODID:-//Squarespace Inc/Squarespace 6//v6//EN
BEGIN:VEVENT
UID:5d34334c15cffe000182120a@squarespace.com
DTSTAMP:20190721T094240Z
DTSTART:20190927T230000Z
DTEND:20190928T020000Z
SUMMARY:No events currently scheduled at KLAC on 28th Sept
END:VEVENT
END:VCALENDAR
