BEGIN:VCALENDAR
VERSION:2.0
PRODID:-//Squarespace Inc/Squarespace 6//v6//EN
BEGIN:VEVENT
UID:5d34353c7a66810001f6519d@squarespace.com
DTSTAMP:20190721T100627Z
DTSTART:20200214T220000Z
DTEND:20200215T010000Z
SUMMARY:No regular program for KLAC on Sat 15th February
END:VEVENT
END:VCALENDAR
