BEGIN:VCALENDAR
VERSION:2.0
PRODID:-//Squarespace Inc/Squarespace 6//v6//EN
BEGIN:VEVENT
UID:5d343931a38de40001d69fd5@squarespace.com
DTSTAMP:20190721T100719Z
DTSTART:20200313T220000Z
DTEND:20200314T010000Z
SUMMARY:No regular program for KLAC on Sat 14th March
END:VEVENT
END:VCALENDAR
