BEGIN:VCALENDAR
VERSION:2.0
PRODID:-//Squarespace Inc/Squarespace 6//v6//EN
BEGIN:VEVENT
UID:5d3431a080972800014a611c@squarespace.com
DTSTAMP:20190721T093847Z
DTSTART:20190913T230000Z
DTEND:20190914T010000Z
SUMMARY:First Keilor 'Come and Try' Day
END:VEVENT
END:VCALENDAR
