BEGIN:VCALENDAR
VERSION:2.0
PRODID:-//Squarespace Inc/Squarespace 6//v6//EN
BEGIN:VEVENT
UID:5d34324501c3590001783d7a@squarespace.com
DTSTAMP:20190721T093808Z
DTSTART:20190920T230000Z
DTEND:20190921T010000Z
SUMMARY:Second Keilor 'Come and Try' Day
END:VEVENT
END:VCALENDAR
