BEGIN:VCALENDAR
VERSION:2.0
PRODID:-//Squarespace Inc/Squarespace 6//v6//EN
BEGIN:VEVENT
UID:5cadc3d0f9619a4678a98f66@squarespace.com
DTSTAMP:20190410T102426Z
DTSTART:20190802T223000Z
DTEND:20190803T013000Z
SUMMARY:State Cross-Country Cross-Championships
END:VEVENT
END:VCALENDAR
