BEGIN:VCALENDAR
VERSION:2.0
PRODID:-//Squarespace Inc/Squarespace 6//v6//EN
BEGIN:VEVENT
UID:5cb8672e4e17b6449c044afc@squarespace.com
DTSTAMP:20190418T120330Z
DTSTART:20190809T230000Z
DTEND:20190810T010000Z
SUMMARY:Super Handicap and Presentation Day - Essendo
END:VEVENT
END:VCALENDAR
