BEGIN:VCALENDAR
VERSION:2.0
PRODID:-//Squarespace Inc/Squarespace 6//v6//EN
BEGIN:VEVENT
UID:5cadc30e53450aea9f3974e8@squarespace.com
DTSTAMP:20190410T101928Z
DTSTART:20190705T223000Z
DTEND:20190706T013000Z
SUMMARY:State Road Relays 
END:VEVENT
END:VCALENDAR
