BEGIN:VCALENDAR
VERSION:2.0
PRODID:-//Squarespace Inc/Squarespace 6//v6//EN
BEGIN:VEVENT
UID:5cb86628a4222f3c98882514@squarespace.com
DTSTAMP:20190418T115808Z
DTSTART:20190705T230000Z
DTEND:20190706T010000Z
SUMMARY:Cross-Country - Keilor
END:VEVENT
END:VCALENDAR
