BEGIN:VCALENDAR
VERSION:2.0
PRODID:-//Squarespace Inc/Squarespace 6//v6//EN
BEGIN:VEVENT
UID:5cb866e8971a1852157b3216@squarespace.com
DTSTAMP:20190418T120117Z
DTSTART:20190726T230000Z
DTEND:20190727T000000Z
SUMMARY:No cross-country this weekend
END:VEVENT
END:VCALENDAR
