BEGIN:VCALENDAR
VERSION:2.0
PRODID:-//Squarespace Inc/Squarespace 6//v6//EN
BEGIN:VEVENT
UID:5cb866a7652deaf09f3267e7@squarespace.com
DTSTAMP:20190418T120017Z
DTSTART:20190720T000000Z
DTEND:20190720T020000Z
SUMMARY:Cross-Country - Essendon Open Day
END:VEVENT
END:VCALENDAR
